BEGIN:VCALENDAR
VERSION:2.0
PRODID:-//SHS - ECPv6.15.20//NONSGML v1.0//EN
CALSCALE:GREGORIAN
METHOD:PUBLISH
X-WR-CALNAME:SHS
X-ORIGINAL-URL:https://shs-ev.de
X-WR-CALDESC:Veranstaltungen für SHS
REFRESH-INTERVAL;VALUE=DURATION:PT1H
X-Robots-Tag:noindex
X-PUBLISHED-TTL:PT1H
BEGIN:VTIMEZONE
TZID:Europe/Berlin
BEGIN:DAYLIGHT
TZOFFSETFROM:+0100
TZOFFSETTO:+0200
TZNAME:CEST
DTSTART:20240331T010000
END:DAYLIGHT
BEGIN:STANDARD
TZOFFSETFROM:+0200
TZOFFSETTO:+0100
TZNAME:CET
DTSTART:20241027T010000
END:STANDARD
BEGIN:DAYLIGHT
TZOFFSETFROM:+0100
TZOFFSETTO:+0200
TZNAME:CEST
DTSTART:20250330T010000
END:DAYLIGHT
BEGIN:STANDARD
TZOFFSETFROM:+0200
TZOFFSETTO:+0100
TZNAME:CET
DTSTART:20251026T010000
END:STANDARD
BEGIN:DAYLIGHT
TZOFFSETFROM:+0100
TZOFFSETTO:+0200
TZNAME:CEST
DTSTART:20260329T010000
END:DAYLIGHT
BEGIN:STANDARD
TZOFFSETFROM:+0200
TZOFFSETTO:+0100
TZNAME:CET
DTSTART:20261025T010000
END:STANDARD
END:VTIMEZONE
BEGIN:VEVENT
DTSTART;TZID=Europe/Berlin:20250228T191500
DTEND;TZID=Europe/Berlin:20250228T221500
DTSTAMP:20260424T175442
CREATED:20241215T081652Z
LAST-MODIFIED:20250406T154658Z
UID:474-1740770100-1740780900@shs-ev.de
SUMMARY:SHS Jahreshauptversammlung  2025
DESCRIPTION:JHV 2025
URL:https://shs-ev.de/index.php/event/jhv-2025/
LOCATION:SHS Vereinsheim\, Heikendorfer weg 29\, Kiel\, 24149\, Germany
CATEGORIES:Ter,vh
END:VEVENT
END:VCALENDAR